Package: affycompData Version: 1.40.0 Command: /home/biocbuild/bbs-3.18-bioc/R/bin/R CMD build --keep-empty-dirs --no-resave-data affycompData StartedAt: 2024-04-16 10:14:32 -0400 (Tue, 16 Apr 2024) EndedAt: 2024-04-16 10:14:39 -0400 (Tue, 16 Apr 2024) EllapsedTime: 7.3 seconds RetCode: 0 Status: OK PackageFile: affycompData_1.40.0.tar.gz PackageFileSize: 68.61 MiB