Package: adductData Version: 1.18.0 Command: /home/biocbuild/bbs-3.18-bioc/R/bin/R CMD build --keep-empty-dirs --no-resave-data adductData StartedAt: 2024-04-16 10:14:32 -0400 (Tue, 16 Apr 2024) EndedAt: 2024-04-16 10:14:44 -0400 (Tue, 16 Apr 2024) EllapsedTime: 12.6 seconds RetCode: 0 Status: OK PackageFile: adductData_1.18.0.tar.gz PackageFileSize: 7.604 KiB