Package: WeberDivechaLCdata Version: 1.4.1 Command: /home/biocbuild/bbs-3.18-bioc/R/bin/R CMD INSTALL WeberDivechaLCdata StartedAt: 2024-04-16 10:06:28 -0400 (Tue, 16 Apr 2024) EndedAt: 2024-04-16 10:07:01 -0400 (Tue, 16 Apr 2024) EllapsedTime: 32.8 seconds RetCode: 0 Status: OK