Package: WGSmapp Version: 1.14.0 Command: /home/biocbuild/bbs-3.18-bioc/R/bin/R CMD check --install=check:WGSmapp.install-out.txt --library=/home/biocbuild/bbs-3.18-bioc/R/site-library --timings WGSmapp_1.14.0.tar.gz StartedAt: 2024-04-16 12:35:41 -0400 (Tue, 16 Apr 2024) EndedAt: 2024-04-16 12:37:09 -0400 (Tue, 16 Apr 2024) EllapsedTime: 87.9 seconds RetCode: 0 Status: WARNINGS CheckDir: WGSmapp.Rcheck Warnings: 1