Package: TargetSearchData Version: 1.40.0 Command: /home/biocbuild/bbs-3.18-bioc/R/bin/R CMD check --install=check:TargetSearchData.install-out.txt --library=/home/biocbuild/bbs-3.18-bioc/R/site-library --timings TargetSearchData_1.40.0.tar.gz StartedAt: 2024-04-16 12:26:28 -0400 (Tue, 16 Apr 2024) EndedAt: 2024-04-16 12:26:45 -0400 (Tue, 16 Apr 2024) EllapsedTime: 17.7 seconds RetCode: 0 Status: OK CheckDir: TargetSearchData.Rcheck Warnings: 0