Package: TargetSearchData Version: 1.40.0 Command: /home/biocbuild/bbs-3.18-bioc/R/bin/R CMD build --keep-empty-dirs --no-resave-data TargetSearchData StartedAt: 2024-04-16 10:55:44 -0400 (Tue, 16 Apr 2024) EndedAt: 2024-04-16 10:56:10 -0400 (Tue, 16 Apr 2024) EllapsedTime: 26.5 seconds RetCode: 0 Status: OK PackageFile: TargetSearchData_1.40.0.tar.gz PackageFileSize: 29.86 MiB