Package: TargetSearchData Version: 1.40.0 Maintainer: Alvaro Cuadros-Inostroza MaintainerEmail: acuadros+bioc at gmail.com git_url: https://git.bioconductor.org/packages/TargetSearchData git_branch: RELEASE_3_18 git_last_commit: 7c06ae3 git_last_commit_date: 2023-10-24 08:55:53 -0400 (Tue, 24 Oct 2023)