Package: TENxVisiumData Version: 1.10.0 Command: /home/biocbuild/bbs-3.18-bioc/R/bin/R CMD build --keep-empty-dirs --no-resave-data TENxVisiumData StartedAt: 2024-04-16 10:56:31 -0400 (Tue, 16 Apr 2024) EndedAt: 2024-04-16 10:57:45 -0400 (Tue, 16 Apr 2024) EllapsedTime: 74.0 seconds RetCode: 0 Status: OK PackageFile: TENxVisiumData_1.10.0.tar.gz PackageFileSize: 299.6 KiB