Package: TCGAcrcmRNA Version: 1.22.0 Maintainer: Claudio Isella MaintainerEmail: claudio.isella at ircc.it git_url: https://git.bioconductor.org/packages/TCGAcrcmRNA git_branch: RELEASE_3_18 git_last_commit: ccf8957 git_last_commit_date: 2023-10-24 09:08:53 -0400 (Tue, 24 Oct 2023)