Package: TCGAMethylation450k Version: 1.38.0 Maintainer: Sean Davis MaintainerEmail: sdavis2 at mail.nih.gov git_url: https://git.bioconductor.org/packages/TCGAMethylation450k git_branch: RELEASE_3_18 git_last_commit: 12d29f2 git_last_commit_date: 2023-10-24 08:57:48 -0400 (Tue, 24 Oct 2023)