Package: RnBeads.mm10 Version: 2.10.0 Command: /home/biocbuild/bbs-3.18-bioc/R/bin/R CMD INSTALL RnBeads.mm10 StartedAt: 2024-04-16 10:11:42 -0400 (Tue, 16 Apr 2024) EndedAt: 2024-04-16 10:11:50 -0400 (Tue, 16 Apr 2024) EllapsedTime: 8.2 seconds RetCode: 0 Status: OK