Package: RnBeads.mm10 Version: 2.10.0 Command: /home/biocbuild/bbs-3.18-bioc/R/bin/R CMD build --keep-empty-dirs --no-resave-data RnBeads.mm10 StartedAt: 2024-04-16 10:49:13 -0400 (Tue, 16 Apr 2024) EndedAt: 2024-04-16 10:49:25 -0400 (Tue, 16 Apr 2024) EllapsedTime: 12.2 seconds RetCode: 0 Status: OK PackageFile: RnBeads.mm10_2.10.0.tar.gz PackageFileSize: 149.1 MiB