Package: RnBeads.mm10 Version: 2.10.0 Maintainer: RnBeads Team MaintainerEmail: team at rnbeads.org git_url: https://git.bioconductor.org/packages/RnBeads.mm10 git_branch: RELEASE_3_18 git_last_commit: d4c15d0 git_last_commit_date: 2023-10-24 09:10:27 -0400 (Tue, 24 Oct 2023)