Package: RnBeads.hg19 Version: 1.34.0 Command: /home/biocbuild/bbs-3.18-bioc/R/bin/R CMD INSTALL RnBeads.hg19 StartedAt: 2024-04-16 10:05:59 -0400 (Tue, 16 Apr 2024) EndedAt: 2024-04-16 10:06:07 -0400 (Tue, 16 Apr 2024) EllapsedTime: 8.4 seconds RetCode: 0 Status: OK