Package: ReactomeGSA.data Version: 1.16.1 Command: /home/biocbuild/bbs-3.18-bioc/R/bin/R CMD INSTALL ReactomeGSA.data StartedAt: 2024-04-16 10:03:40 -0400 (Tue, 16 Apr 2024) EndedAt: 2024-04-16 10:03:57 -0400 (Tue, 16 Apr 2024) EllapsedTime: 17.2 seconds RetCode: 0 Status: OK