Package: ReactomeGSA.data Version: 1.16.1 Command: /home/biocbuild/bbs-3.18-bioc/R/bin/R CMD check --install=check:ReactomeGSA.data.install-out.txt --library=/home/biocbuild/bbs-3.18-bioc/R/site-library --timings ReactomeGSA.data_1.16.1.tar.gz StartedAt: 2024-04-16 12:09:04 -0400 (Tue, 16 Apr 2024) EndedAt: 2024-04-16 12:10:04 -0400 (Tue, 16 Apr 2024) EllapsedTime: 60.1 seconds RetCode: 0 Status: WARNINGS CheckDir: ReactomeGSA.data.Rcheck Warnings: 3