Package: MethylAidData Version: 1.34.0 Command: /home/biocbuild/bbs-3.18-bioc/R/bin/R CMD build --keep-empty-dirs --no-resave-data MethylAidData StartedAt: 2024-04-16 10:41:05 -0400 (Tue, 16 Apr 2024) EndedAt: 2024-04-16 10:41:39 -0400 (Tue, 16 Apr 2024) EllapsedTime: 33.3 seconds RetCode: 0 Status: OK PackageFile: MethylAidData_1.34.0.tar.gz PackageFileSize: 20.97 MiB