Package: MerfishData Version: 1.4.1 Command: /home/biocbuild/bbs-3.18-bioc/R/bin/R CMD INSTALL MerfishData StartedAt: 2024-04-16 10:07:39 -0400 (Tue, 16 Apr 2024) EndedAt: 2024-04-16 10:08:03 -0400 (Tue, 16 Apr 2024) EllapsedTime: 23.6 seconds RetCode: 0 Status: OK