Package: MEEBOdata Version: 1.40.0 Maintainer: Agnes Paquet MaintainerEmail: apaquet at medsfgh.ucsf.edu git_url: https://git.bioconductor.org/packages/MEEBOdata git_branch: RELEASE_3_18 git_last_commit: c102a18 git_last_commit_date: 2023-10-24 08:54:09 -0400 (Tue, 24 Oct 2023)