Package: MACSdata Version: 1.10.0 Maintainer: Qiang Hu MaintainerEmail: Qiang.Hu at roswellpark.org git_url: https://git.bioconductor.org/packages/MACSdata git_branch: RELEASE_3_18 git_last_commit: 43b7147 git_last_commit_date: 2023-10-24 09:21:52 -0400 (Tue, 24 Oct 2023)