Package: M3DExampleData Version: 1.28.0 Command: /home/biocbuild/bbs-3.18-bioc/R/bin/R CMD check --install=check:M3DExampleData.install-out.txt --library=/home/biocbuild/bbs-3.18-bioc/R/site-library --timings M3DExampleData_1.28.0.tar.gz StartedAt: 2024-04-16 11:49:14 -0400 (Tue, 16 Apr 2024) EndedAt: 2024-04-16 11:49:24 -0400 (Tue, 16 Apr 2024) EllapsedTime: 10.0 seconds RetCode: 0 Status: WARNINGS CheckDir: M3DExampleData.Rcheck Warnings: 1