Package: M3DExampleData Version: 1.28.0 Maintainer: Tallulah Andrews MaintainerEmail: tallulandrews at gmail.com git_url: https://git.bioconductor.org/packages/M3DExampleData git_branch: RELEASE_3_18 git_last_commit: 0cf50a6 git_last_commit_date: 2023-10-24 09:16:12 -0400 (Tue, 24 Oct 2023)