Package: KEGGdzPathwaysGEO Version: 1.40.0 Maintainer: Gaurav Bhatti MaintainerEmail: gbhatti at med.wayne.edu git_url: https://git.bioconductor.org/packages/KEGGdzPathwaysGEO git_branch: RELEASE_3_18 git_last_commit: 578b101 git_last_commit_date: 2023-10-24 08:58:42 -0400 (Tue, 24 Oct 2023)