Package: JASPAR2014 Version: 1.38.0 Command: /home/biocbuild/bbs-3.18-bioc/R/bin/R CMD build --keep-empty-dirs --no-resave-data JASPAR2014 StartedAt: 2024-04-16 10:37:13 -0400 (Tue, 16 Apr 2024) EndedAt: 2024-04-16 10:37:20 -0400 (Tue, 16 Apr 2024) EllapsedTime: 7.0 seconds RetCode: 0 Status: OK PackageFile: JASPAR2014_1.38.0.tar.gz PackageFileSize: 42.89 MiB