Package: Iyer517 Version: 1.44.0 Command: /home/biocbuild/bbs-3.18-bioc/R/bin/R CMD INSTALL Iyer517 StartedAt: 2024-04-16 10:01:21 -0400 (Tue, 16 Apr 2024) EndedAt: 2024-04-16 10:01:23 -0400 (Tue, 16 Apr 2024) EllapsedTime: 2.9 seconds RetCode: 0 Status: OK