Package: IHWpaper Version: 1.30.0 Command: /home/biocbuild/bbs-3.18-bioc/R/bin/R CMD check --install=check:IHWpaper.install-out.txt --library=/home/biocbuild/bbs-3.18-bioc/R/site-library --timings IHWpaper_1.30.0.tar.gz StartedAt: 2024-04-16 11:44:16 -0400 (Tue, 16 Apr 2024) EndedAt: 2024-04-16 11:55:49 -0400 (Tue, 16 Apr 2024) EllapsedTime: 693.1 seconds RetCode: 0 Status: OK CheckDir: IHWpaper.Rcheck Warnings: 0