Package: HumanAffyData Version: 1.28.0 Command: /home/biocbuild/bbs-3.18-bioc/R/bin/R CMD check --install=check:HumanAffyData.install-out.txt --library=/home/biocbuild/bbs-3.18-bioc/R/site-library --timings HumanAffyData_1.28.0.tar.gz StartedAt: 2024-04-16 11:43:33 -0400 (Tue, 16 Apr 2024) EndedAt: 2024-04-16 11:44:51 -0400 (Tue, 16 Apr 2024) EllapsedTime: 77.7 seconds RetCode: 0 Status: OK CheckDir: HumanAffyData.Rcheck Warnings: 0