Package: HumanAffyData Version: 1.28.0 Command: /home/biocbuild/bbs-3.18-bioc/R/bin/R CMD build --keep-empty-dirs --no-resave-data HumanAffyData StartedAt: 2024-04-16 10:36:20 -0400 (Tue, 16 Apr 2024) EndedAt: 2024-04-16 10:36:46 -0400 (Tue, 16 Apr 2024) EllapsedTime: 25.6 seconds RetCode: 0 Status: OK PackageFile: HumanAffyData_1.28.0.tar.gz PackageFileSize: 157.2 KiB