Package: HighlyReplicatedRNASeq Version: 1.14.0 Command: /home/biocbuild/bbs-3.18-bioc/R/bin/R CMD check --install=check:HighlyReplicatedRNASeq.install-out.txt --library=/home/biocbuild/bbs-3.18-bioc/R/site-library --timings HighlyReplicatedRNASeq_1.14.0.tar.gz StartedAt: 2024-04-16 11:40:27 -0400 (Tue, 16 Apr 2024) EndedAt: 2024-04-16 11:44:26 -0400 (Tue, 16 Apr 2024) EllapsedTime: 238.9 seconds RetCode: 0 Status: OK CheckDir: HighlyReplicatedRNASeq.Rcheck Warnings: 0