Package: HighlyReplicatedRNASeq Version: 1.14.0 Command: /home/biocbuild/bbs-3.18-bioc/R/bin/R CMD build --keep-empty-dirs --no-resave-data HighlyReplicatedRNASeq StartedAt: 2024-04-16 10:35:36 -0400 (Tue, 16 Apr 2024) EndedAt: 2024-04-16 10:36:36 -0400 (Tue, 16 Apr 2024) EllapsedTime: 60.2 seconds RetCode: 0 Status: OK PackageFile: HighlyReplicatedRNASeq_1.14.0.tar.gz PackageFileSize: 386.4 KiB