Package: HarmonizedTCGAData Version: 1.24.0 Command: /home/biocbuild/bbs-3.18-bioc/R/bin/R CMD check --install=check:HarmonizedTCGAData.install-out.txt --library=/home/biocbuild/bbs-3.18-bioc/R/site-library --timings HarmonizedTCGAData_1.24.0.tar.gz StartedAt: 2024-04-16 11:37:25 -0400 (Tue, 16 Apr 2024) EndedAt: 2024-04-16 11:40:05 -0400 (Tue, 16 Apr 2024) EllapsedTime: 160.3 seconds RetCode: 0 Status: OK CheckDir: HarmonizedTCGAData.Rcheck Warnings: 0