Package: GWASdata Version: 1.40.0 Maintainer: Stephanie Gogarten MaintainerEmail: sdmorris at uw.edu git_url: https://git.bioconductor.org/packages/GWASdata git_branch: RELEASE_3_18 git_last_commit: b838e66 git_last_commit_date: 2023-10-24 08:57:40 -0400 (Tue, 24 Oct 2023)