Package: GIGSEAdata Version: 1.20.0 Command: /home/biocbuild/bbs-3.18-bioc/R/bin/R CMD check --install=check:GIGSEAdata.install-out.txt --library=/home/biocbuild/bbs-3.18-bioc/R/site-library --timings GIGSEAdata_1.20.0.tar.gz StartedAt: 2024-04-16 11:34:28 -0400 (Tue, 16 Apr 2024) EndedAt: 2024-04-16 11:34:47 -0400 (Tue, 16 Apr 2024) EllapsedTime: 18.6 seconds RetCode: 0 Status: WARNINGS CheckDir: GIGSEAdata.Rcheck Warnings: 1