Package: FlowSorted.DLPFC.450k Version: 1.38.0 Command: /home/biocbuild/bbs-3.18-bioc/R/bin/R CMD INSTALL FlowSorted.DLPFC.450k StartedAt: 2024-04-16 10:10:08 -0400 (Tue, 16 Apr 2024) EndedAt: 2024-04-16 10:12:10 -0400 (Tue, 16 Apr 2024) EllapsedTime: 122.4 seconds RetCode: 0 Status: OK