Package: ELMER.data Version: 2.26.0 Command: /home/biocbuild/bbs-3.18-bioc/R/bin/R CMD build --keep-empty-dirs --no-resave-data ELMER.data StartedAt: 2024-04-16 10:25:44 -0400 (Tue, 16 Apr 2024) EndedAt: 2024-04-16 10:27:41 -0400 (Tue, 16 Apr 2024) EllapsedTime: 117.1 seconds RetCode: 0 Status: OK PackageFile: ELMER.data_2.26.0.tar.gz PackageFileSize: 293.4 MiB