Package: DuoClustering2018 Version: 1.20.0 Maintainer: Angelo Duò MaintainerEmail: angelo.duo at icloud.com git_url: https://git.bioconductor.org/packages/DuoClustering2018 git_branch: RELEASE_3_18 git_last_commit: 27c0da6 git_last_commit_date: 2023-10-24 09:18:32 -0400 (Tue, 24 Oct 2023)