Package: BeadArrayUseCases Version: 1.40.0 Maintainer: Mike Smith MaintainerEmail: grimbough at gmail.com git_url: https://git.bioconductor.org/packages/BeadArrayUseCases git_branch: RELEASE_3_18 git_last_commit: 85aa053 git_last_commit_date: 2023-10-24 08:57:54 -0400 (Tue, 24 Oct 2023)