Package: hpAnnot Version: 1.1.0 Command: /home/biocbuild/bbs-3.18-bioc/R/bin/R CMD build --keep-empty-dirs --no-resave-data hpAnnot StartedAt: 2024-04-17 06:31:43 -0400 (Wed, 17 Apr 2024) EndedAt: 2024-04-17 06:32:16 -0400 (Wed, 17 Apr 2024) EllapsedTime: 33.5 seconds RetCode: 0 Status: OK PackageFile: hpAnnot_1.1.0.tar.gz PackageFileSize: 228.8 MiB