Package: gwascatData Version: 0.99.6 Command: /home/biocbuild/bbs-3.18-bioc/R/bin/R CMD check --install=check:gwascatData.install-out.txt --library=/home/biocbuild/bbs-3.18-bioc/R/site-library --timings gwascatData_0.99.6.tar.gz StartedAt: 2024-04-17 06:33:59 -0400 (Wed, 17 Apr 2024) EndedAt: 2024-04-17 06:34:38 -0400 (Wed, 17 Apr 2024) EllapsedTime: 38.7 seconds RetCode: 0 Status: OK CheckDir: gwascatData.Rcheck Warnings: 0