Package: excluderanges Version: 0.99.8 Command: /home/biocbuild/bbs-3.18-bioc/R/bin/R CMD build --keep-empty-dirs --no-resave-data excluderanges StartedAt: 2024-04-17 06:31:30 -0400 (Wed, 17 Apr 2024) EndedAt: 2024-04-17 06:32:19 -0400 (Wed, 17 Apr 2024) EllapsedTime: 48.9 seconds RetCode: 1 Status: ERROR PackageFile: None PackageFileSize: NA