Package: HPO.db Version: 0.99.2 Command: /home/biocbuild/bbs-3.18-bioc/R/bin/R CMD check --install=check:HPO.db.install-out.txt --library=/home/biocbuild/bbs-3.18-bioc/R/site-library --timings HPO.db_0.99.2.tar.gz StartedAt: 2024-04-17 06:34:07 -0400 (Wed, 17 Apr 2024) EndedAt: 2024-04-17 06:37:56 -0400 (Wed, 17 Apr 2024) EllapsedTime: 229.4 seconds RetCode: 0 Status: OK CheckDir: HPO.db.Rcheck Warnings: 0