Package: HPO.db Version: 0.99.2 Command: /home/biocbuild/bbs-3.18-bioc/R/bin/R CMD build --keep-empty-dirs --no-resave-data HPO.db StartedAt: 2024-04-17 06:32:02 -0400 (Wed, 17 Apr 2024) EndedAt: 2024-04-17 06:32:41 -0400 (Wed, 17 Apr 2024) EllapsedTime: 38.3 seconds RetCode: 0 Status: OK PackageFile: HPO.db_0.99.2.tar.gz PackageFileSize: 23.83 KiB