Package: csawBook Version: 1.10.0 Maintainer: Aaron Lun MaintainerEmail: infinite.monkeys.with.keyboards at gmail.com git_url: https://git.bioconductor.org/packages/csawBook git_branch: RELEASE_3_18 git_last_commit: 3dc1b67 git_last_commit_date: 2023-10-24 08:43:44 -0400 (Tue, 24 Oct 2023)