Package: SingleRBook Version: 1.12.1 Command: rm -rf SingleRBook.book && mkdir SingleRBook.book && /home/biocbuild/BBS/utils/deploy_book.py SingleRBook_1.12.1.tar.gz SingleRBook.book StartedAt: 2024-04-17 09:45:44 -0400 (Wed, 17 Apr 2024) EndedAt: 2024-04-17 09:45:46 -0400 (Wed, 17 Apr 2024) EllapsedTime: 2.1 seconds RetCode: 0 Status: OK DeployDestDir: SingleRBook.book Warnings: 0