Package: SingleRBook Version: 1.12.1 Command: /home/biocbuild/bbs-3.18-bioc/R/bin/R CMD build --keep-empty-dirs --no-resave-data SingleRBook StartedAt: 2024-04-17 07:02:13 -0400 (Wed, 17 Apr 2024) EndedAt: 2024-04-17 07:42:09 -0400 (Wed, 17 Apr 2024) EllapsedTime: 2395.5 seconds RetCode: 0 Status: OK PackageFile: SingleRBook_1.12.1.tar.gz PackageFileSize: 5.356 MiB