Package: OSCA Version: 1.12.0 Maintainer: Alan O'Callaghan MaintainerEmail: alan.ocallaghan at outlook.com git_url: https://git.bioconductor.org/packages/OSCA git_branch: RELEASE_3_18 git_last_commit: 614279c git_last_commit_date: 2023-10-24 08:43:38 -0400 (Tue, 24 Oct 2023)