Package: OSCA.multisample Version: 1.10.4 Command: /home/biocbuild/bbs-3.18-bioc/R/bin/R CMD INSTALL OSCA.multisample StartedAt: 2024-04-17 07:00:43 -0400 (Wed, 17 Apr 2024) EndedAt: 2024-04-17 07:01:10 -0400 (Wed, 17 Apr 2024) EllapsedTime: 27.3 seconds RetCode: 0 Status: OK