Package: OSCA.multisample Version: 1.10.4 Command: /home/biocbuild/bbs-3.18-bioc/R/bin/R CMD build --keep-empty-dirs --no-resave-data OSCA.multisample StartedAt: 2024-04-17 07:01:59 -0400 (Wed, 17 Apr 2024) EndedAt: 2024-04-17 09:05:12 -0400 (Wed, 17 Apr 2024) EllapsedTime: 7392.6 seconds RetCode: 0 Status: OK PackageFile: OSCA.multisample_1.10.4.tar.gz PackageFileSize: 10.51 MiB