Package: OSCA.intro Version: 1.10.0 Command: /home/biocbuild/bbs-3.18-bioc/R/bin/R CMD build --keep-empty-dirs --no-resave-data OSCA.intro StartedAt: 2024-04-17 07:01:59 -0400 (Wed, 17 Apr 2024) EndedAt: 2024-04-17 07:12:07 -0400 (Wed, 17 Apr 2024) EllapsedTime: 607.7 seconds RetCode: 0 Status: OK PackageFile: OSCA.intro_1.10.0.tar.gz PackageFileSize: 1.31 MiB