Package: treeio Version: 1.26.0 Command: /home/hpages/bbs-3.18-bioc-R41/R/bin/R CMD check --install=check:treeio.install-out.txt --library=/home/hpages/bbs-3.18-bioc-R41/R/site-library --timings treeio_1.26.0.tar.gz StartedAt: 2024-03-08 16:18:00 -0500 (Fri, 08 Mar 2024) EndedAt: 2024-03-08 16:19:00 -0500 (Fri, 08 Mar 2024) EllapsedTime: 60.0 seconds RetCode: 0 Status: OK CheckDir: treeio.Rcheck Warnings: 0